BEGIN:VCALENDAR
VERSION:2.0
PRODID:-//Plone.org//NONSGML plone.app.event//EN
X-WR-TIMEZONE:Europe/Vienna
BEGIN:VEVENT
SUMMARY:Info Atelier I inkl. SpA 2O
DTSTART;TZID=Europe/Vienna;VALUE=DATE-TIME:20200604T084500
DTEND;TZID=Europe/Vienna;VALUE=DATE-TIME:20200604T094500
DTSTAMP;VALUE=DATE-TIME:20260421T233826Z
UID:d80c9f6ce759413ead1d006a36c8f8eb@127.0.0.1:10350
CREATED;VALUE=DATE-TIME:20200427T121827Z
LAST-MODIFIED;VALUE=DATE-TIME:20200427T122123Z
LOCATION:Aula
URL:https://www.sek-sandgruben.ch/termine/info-atelier-i-inkl-spa-2o
END:VEVENT
BEGIN:VTIMEZONE
TZID:Europe/Vienna
X-LIC-LOCATION:Europe/Vienna
BEGIN:DAYLIGHT
DTSTART;VALUE=DATE-TIME:20200329T030000
TZNAME:CEST
TZOFFSETFROM:+0100
TZOFFSETTO:+0200
END:DAYLIGHT
END:VTIMEZONE
END:VCALENDAR
